BEGIN:VCALENDAR
VERSION:2.0
PRODID:-//DEHOGA Berlin • Hotel- und Gastronomieverband Berlin e.V. - ECPv6.15.20//NONSGML v1.0//EN
CALSCALE:GREGORIAN
METHOD:PUBLISH
X-ORIGINAL-URL:https://dehoga-berlin.de
X-WR-CALDESC:Veranstaltungen für DEHOGA Berlin • Hotel- und Gastronomieverband Berlin e.V.
REFRESH-INTERVAL;VALUE=DURATION:PT1H
X-Robots-Tag:noindex
X-PUBLISHED-TTL:PT1H
BEGIN:VTIMEZONE
TZID:Europe/Berlin
BEGIN:DAYLIGHT
TZOFFSETFROM:+0100
TZOFFSETTO:+0200
TZNAME:CEST
DTSTART:20240331T010000
END:DAYLIGHT
BEGIN:STANDARD
TZOFFSETFROM:+0200
TZOFFSETTO:+0100
TZNAME:CET
DTSTART:20241027T010000
END:STANDARD
BEGIN:DAYLIGHT
TZOFFSETFROM:+0100
TZOFFSETTO:+0200
TZNAME:CEST
DTSTART:20250330T010000
END:DAYLIGHT
BEGIN:STANDARD
TZOFFSETFROM:+0200
TZOFFSETTO:+0100
TZNAME:CET
DTSTART:20251026T010000
END:STANDARD
BEGIN:DAYLIGHT
TZOFFSETFROM:+0100
TZOFFSETTO:+0200
TZNAME:CEST
DTSTART:20260329T010000
END:DAYLIGHT
BEGIN:STANDARD
TZOFFSETFROM:+0200
TZOFFSETTO:+0100
TZNAME:CET
DTSTART:20261025T010000
END:STANDARD
BEGIN:DAYLIGHT
TZOFFSETFROM:+0100
TZOFFSETTO:+0200
TZNAME:CEST
DTSTART:20270328T010000
END:DAYLIGHT
BEGIN:STANDARD
TZOFFSETFROM:+0200
TZOFFSETTO:+0100
TZNAME:CET
DTSTART:20271031T010000
END:STANDARD
END:VTIMEZONE
BEGIN:VTIMEZONE
TZID:UTC
BEGIN:STANDARD
TZOFFSETFROM:+0000
TZOFFSETTO:+0000
TZNAME:UTC
DTSTART:20240101T000000
END:STANDARD
END:VTIMEZONE
BEGIN:VEVENT
DTSTART;TZID=Europe/Berlin:20260421T153000
DTEND;TZID=Europe/Berlin:20260421T170000
DTSTAMP:20260423T125131
CREATED:20260325T132805Z
LAST-MODIFIED:20260325T135451Z
UID:8247-1776785400-1776790800@dehoga-berlin.de
SUMMARY:Webinar zum Ausbildungsqualitätssiegel TOP-Ausbildungsbetrieb
DESCRIPTION:Mit der Initiative “TOP-Ausbildungsbetrieb” schafft der DEHOGA erstmals eine bundesweit einheitliche Zertifizierung für einen hohen Ausbildungsstandard – und davon profitieren Bewerber wie Betriebe in Hotellerie und Gastronomie. \nDen Betrieben\, die sich als „TOP-Ausbildungsbetrieb“ zertifizieren lassen\, bietet das Qualitätssiegel einen großen Wettbewerbsvorteil und hebt diese als attraktive Ausbilder und Arbeitgeber hervor. \nErfahren Sie mehr zur Zertifizierung als TOP-Ausbildungsbetrieb und erhalten Tipps für Nachwuchsmarketing & Employer Branding für Ausbildungsbetriebe. \n\nInhalte – Im Webinar wird im ersten Teil die Zertifizierung als TOP-Ausbildungsbetrieb inkl. der Neuerungen 2026 für Interessenten vorgestellt. \nDer zweite Teil des Online-Webinars bündelt einen Input über Nachwuchsmarketing und Employer Branding durch das Qualitätssiegel TOP-Ausbildungsbetrieb. \n\nTermin: 21. April\, 15.30-17.00 Uhr\nZoom-Link: https://us06web.zoom.us/j/88645242130\nMeeting-ID: 886 4524 2130\n\nDie Aktionswoche bietet eine gute Gelegenheit\, Ausbildungsqualität klar zu positionieren und das eigene Engagement offensiv zu zeigen. Keine Anmeldung notwendig.
URL:https://dehoga-berlin.de/veranstaltung/woche-des-top-ausbildungsbetriebs-mit-begleitendem-webseminar/
ATTACH;FMTTYPE=image/jpeg:https://dehoga-berlin.de/wp-content/uploads/2026/03/DEHOGA_Logo_Mockup01_pressed.jpg
END:VEVENT
BEGIN:VEVENT
DTSTART;TZID=Europe/Berlin:20260420T140000
DTEND;TZID=Europe/Berlin:20260420T170000
DTSTAMP:20260423T125131
CREATED:20251105T084535Z
LAST-MODIFIED:20260216T073959Z
UID:7245-1776693600-1776704400@dehoga-berlin.de
SUMMARY:Vollversammlung der Delegierten
DESCRIPTION:Die Vollversammlung ist das höchste Gremium des Hotel- und Gastronomieverbandes Berlin e. V. Sie tritt auf Einladung des Präsidiums mindestens einmal jährlich zusammen. Die Vollversammlung besteht aus den gewählten Mitgliedern des Präsidiums sowie in der Regel jeweils 40 Delegierten der Fachgruppen Hotellerie und Gastronomie. \nSie treffen sich mindestens zwei mal im Jahr.
URL:https://dehoga-berlin.de/veranstaltung/vollversammlung-der-delegierten/
LOCATION:SANA Berlin Hotel\, Nürnberger Straße 33/34\, Berlin\, 10777
ATTACH;FMTTYPE=image/jpeg:https://dehoga-berlin.de/wp-content/uploads/2025/11/image00030-scaled.jpeg
END:VEVENT
BEGIN:VEVENT
DTSTART;TZID=Europe/Berlin:20260413T140000
DTEND;TZID=Europe/Berlin:20260413T150000
DTSTAMP:20260423T125131
CREATED:20260325T121330Z
LAST-MODIFIED:20260325T121536Z
UID:8243-1776088800-1776092400@dehoga-berlin.de
SUMMARY:Webinar - Digitale Barrierefreiheit und BFSG verständlich gemacht
DESCRIPTION:Seit dem 28. Juni 2025 ist das Barrierefreiheitsstärkungsgesetz (BFSG) für viele Betriebe im Gastgewerbe verpflichtend. Mit Beginn der Tätigkeit der Prüfstellen Anfang 2026 rückt die konkrete Umsetzung der Anforderungen verstärkt in den Fokus. Gerade kleine und mittelständische Betriebe aus Hotellerie und Gastronomie stehen dabei vor der Herausforderung\, die gesetzlichen Vorgaben richtig einzuordnen und praxisnah umzusetzen.  \nDieses Webinar vermittelt kompakt und verständlich\, welche Anforderungen konkret gelten und welche Schritte jetzt entscheidend sind\, um die eigene Website rechtssicher aufzustellen. Die rechtlichen Grundlagen werden anschaulich erklärt und anhand typischer Beispiele aus der Praxis eingeordnet.  \nIm Fokus stehen häufige Barrieren auf Websites von Hotels und Restaurants\, konkrete Lösungsansätze sowie Strategien für eine effiziente Umsetzung im laufenden Betrieb. Ergänzt wird der Fachvortrag durch eine Live-Demonstration typischer Barrieren und deren Behebung.  \nDas Webinar richtet sich an Inhaberinnen und Inhaber\, Geschäftsführende sowie Marketing- und IT-Verantwortliche aus Betrieben der Hotellerie und Gastronomie. \n_________________________________________________________________________________ \nVeranstaltungsziel – Seit dem 28. Juni 2025 ist das Barrierefreiheitsstärkungsgesetz (BFSG) für viele Betriebe im Gastgewerbe verpflichtend. Mit Beginn der Tätigkeit der Prüfstellen Anfang 2026 ist die Umsetzung der gesetzlichen Anforderungen verstärkt in den Fokus gerückt. Das Webinar vermittelt einen verständlichen und praxisnahen Überblick über die Anforderungen zur digitalen Barrierefreiheit und zeigt\, welche konkreten Schritte notwendig sind\, um Websites rechtskonform und gleichzeitig nutzerfreundlich umzusetzen.  \nThemen: \n\nWer vom BFSG betroffen ist und welche Ausnahmen gelten\nAktueller Stand seit Inkrafttreten des BFSG\nZentrale Anforderungen an barrierefreie Websites (WCAG verständlich erklärt)\nTypische Barrieren und häufige Fehler\nPragmatische Lösungsansätze zur Umsetzung ohne hohen Ressourcenaufwand\nLive-Demonstration typischer Barrieren\n\nZielgruppe – Inhaberinnen und Inhaber\, Geschäftsführende sowie Marketing- und IT-Verantwortliche aus Betrieben der Hotellerie und Gastronomie.  \n\nVeranstaltungsort/Format: virtuelle Videokonferenz\nTermin: 13.04.2026\, 14:00 Uhr (Dauer: eine Stunde)\n\nReferent: Matthias Wirz\, Geschäftsführer der DGfB (Deutsche Gesellschaft für Barrierefreiheit mbH) und international zertifizierter Experte (CPACC der International Association of Accessibility Professionals)\, E-Mail: matthias.wirz@accessgo.de \nAnmeldung bitte über https://www.accessgo.de/webinar-accessgo-dehoga/. Angemeldete Teilnehmer erhalten vor Veranstaltungsbeginn den Teilnahmelink zugesandt. \n 
URL:https://dehoga-berlin.de/veranstaltung/webinar-digitale-barrierefreiheit-und-bfsg-verstaendlich-gemacht/
ATTACH;FMTTYPE=image/jpeg:https://dehoga-berlin.de/wp-content/uploads/2026/03/samantha-borges-EeS69TTPQ18-unsplash-scaled.jpg
END:VEVENT
BEGIN:VEVENT
DTSTART;TZID=Europe/Berlin:20260323T140000
DTEND;TZID=Europe/Berlin:20260323T170000
DTSTAMP:20260423T125131
CREATED:20251021T092510Z
LAST-MODIFIED:20260303T092417Z
UID:7113-1774274400-1774285200@dehoga-berlin.de
SUMMARY:Fachgruppensitzung Gastronomie
DESCRIPTION:[vc_row type=”in_container” full_screen_row_position=”middle” column_margin=”default” column_direction=”default” column_direction_tablet=”default” column_direction_phone=”default” scene_position=”center” text_color=”dark” text_align=”left” row_border_radius=”none” row_border_radius_applies=”bg” row_position_desktop=”default” row_position_tablet=”inherit” row_position_phone=”inherit” overflow=”visible” overlay_strength=”0.3″ gradient_direction=”left_to_right” shape_divider_position=”bottom” bg_image_animation=”none”][vc_column column_padding=”no-extra-padding” column_padding_tablet=”inherit” column_padding_phone=”inherit” column_padding_position=”all” flex_gap_desktop=”10px” column_element_direction_desktop=”default” column_element_spacing=”default” desktop_text_alignment=”default” tablet_text_alignment=”default” phone_text_alignment=”default” background_color_opacity=”1″ background_hover_color_opacity=”1″ column_backdrop_filter=”none” column_shadow=”none” column_border_radius=”none” column_link_target=”_self” column_position=”default” gradient_direction=”left_to_right” overlay_strength=”0.3″ width=”1/1″ tablet_width_inherit=”default” animation_type=”default” bg_image_animation=”none” border_type=”simple” column_border_width=”none” column_border_style=”solid”][vc_column_text css=”” text_direction=”default”]Liebe Mitglieder\, \nwir laden Euch herzlich zur Sitzung unserer Fachgruppe Gastronomie 2026 ein. \nDieser Termin ist besonders wichtig\, da im Rahmen der Sitzung die Verbandswahlen stattfinden und damit die zukünftige Ausrichtung unserer Fachgruppe mitgestaltet wird. \nVeranstaltungsdetails: \nWann: Montag\, 23. März 2026\n \nBeginn: 14:00 Uhr bis ca. 17:00 Uhr\n \nWo: SANA Berlin Hotel | Nürnberger Straße 33/34 | 10777 Berlin \nDie Tagesordnung findet Ihr in der Einladungs-E-Mail oder auch auf der Event-Seite \nBitte sendet Eure Anmeldung bis zum 16. März an kristian.kleber@dehoga-berlin.de oder klickt HIER. \nFalls Euch kurzfristig etwas dazwischenkommt\, gebt uns bitte kurz Bescheid. Ihr wisst aus dem eigenen Alltag\, wie wertvoll eine rechtzeitige Absage ist. \nWir freuen uns auf Eure Teilnahme. \nJörn Brinkmann\nVizepräsident\, Vorsitzender FG Gastronomie \nGerrit Buchhorn\nHauptgeschäftsführer[/vc_column_text][/vc_column][/vc_row]
URL:https://dehoga-berlin.de/veranstaltung/fachgruppensitzung-hotellerie/
LOCATION:SANA Berlin Hotel\, Nürnberger Straße 33/34\, Berlin\, 10777
ATTACH;FMTTYPE=image/jpeg:https://dehoga-berlin.de/wp-content/uploads/2024/11/image00023-scaled.jpeg
ORGANIZER;CN="DEHOGA Berlin":MAILTO:events@dehoga-berlin.de
END:VEVENT
BEGIN:VEVENT
DTSTART;TZID=Europe/Berlin:20260316T140000
DTEND;TZID=Europe/Berlin:20260316T170000
DTSTAMP:20260423T125131
CREATED:20251021T091714Z
LAST-MODIFIED:20260216T073035Z
UID:7109-1773669600-1773680400@dehoga-berlin.de
SUMMARY:Fachgruppensitzung Hotellerie
DESCRIPTION:[vc_row type=”in_container” full_screen_row_position=”middle” column_margin=”default” column_direction=”default” column_direction_tablet=”default” column_direction_phone=”default” scene_position=”center” text_color=”dark” text_align=”left” row_border_radius=”none” row_border_radius_applies=”bg” row_position_desktop=”default” row_position_tablet=”inherit” row_position_phone=”inherit” overflow=”visible” overlay_strength=”0.3″ gradient_direction=”left_to_right” shape_divider_position=”bottom” bg_image_animation=”none”][vc_column column_padding=”no-extra-padding” column_padding_tablet=”inherit” column_padding_phone=”inherit” column_padding_position=”all” flex_gap_desktop=”10px” column_element_direction_desktop=”default” column_element_spacing=”default” desktop_text_alignment=”default” tablet_text_alignment=”default” phone_text_alignment=”default” background_color_opacity=”1″ background_hover_color_opacity=”1″ column_backdrop_filter=”none” column_shadow=”none” column_border_radius=”none” column_link_target=”_self” column_position=”default” gradient_direction=”left_to_right” overlay_strength=”0.3″ width=”1/1″ tablet_width_inherit=”default” animation_type=”default” bg_image_animation=”none” border_type=”simple” column_border_width=”none” column_border_style=”solid”][vc_column_text css=”” text_direction=”default”]Liebe Mitglieder\, \nwir laden Euch herzlich zur Sitzung unserer Fachgruppe Gastronomie 2026 ein. \nDieser Termin ist besonders wichtig\, da im Rahmen der Sitzung die Verbandswahlen stattfinden und damit die zukünftige Ausrichtung unserer Fachgruppe mitgestaltet wird. \nVeranstaltungsdetails: \nWann: Montag\, 23. März 2026\n \nBeginn: 14:00 Uhr bis ca. 17:00 Uhr\n \nWo: SANA Berlin Hotel | Nürnberger Straße 33/34 | 10777 Berlin \n Bitte sendet Eure Anmeldung bis zum 20. März an kristian.kleber@dehoga-berlin.de oder klickt HIER. Die Tagesordnung wird euch bei der Anmeldung zugeschickt. \nFalls Euch kurzfristig etwas dazwischenkommt\, gebt uns bitte kurz Bescheid. Ihr wisst aus dem eigenen Alltag\, wie wertvoll eine rechtzeitige Absage ist. \nWir freuen uns auf Eure Teilnahme. \nJörn Brinkmann\nVizepräsident\, Vorsitzender FG Gastronomie \nGerrit Buchhorn\nHauptgeschäftsführer[/vc_column_text][/vc_column][/vc_row]
URL:https://dehoga-berlin.de/veranstaltung/fachgruppensitzung-gastronomie/
LOCATION:SANA Berlin Hotel\, Nürnberger Straße 33/34\, Berlin\, 10777
ATTACH;FMTTYPE=image/jpeg:https://dehoga-berlin.de/wp-content/uploads/2025/10/image00023-scaled.jpeg
ORGANIZER;CN="DEHOGA Berlin":MAILTO:events@dehoga-berlin.de
END:VEVENT
BEGIN:VEVENT
DTSTART;TZID=Europe/Berlin:20260309T140000
DTEND;TZID=Europe/Berlin:20260309T160000
DTSTAMP:20260423T125131
CREATED:20260216T074119Z
LAST-MODIFIED:20260216T074119Z
UID:8033-1773064800-1773072000@dehoga-berlin.de
SUMMARY:Treffen für asiatische/ vietnamesische Betriebe mit dem DEHOGA Berlin & VTT
DESCRIPTION:
URL:https://dehoga-berlin.de/veranstaltung/treffen-fuer-asiatische-vietnamesische-betriebe-mit-dem-dehoga-berlin-vtt/
ORGANIZER;CN="DEHOGA Berlin":MAILTO:events@dehoga-berlin.de
END:VEVENT
BEGIN:VEVENT
DTSTART;TZID=Europe/Berlin:20251215T140000
DTEND;TZID=Europe/Berlin:20251215T170000
DTSTAMP:20260423T125131
CREATED:20241128T144245Z
LAST-MODIFIED:20260121T151234Z
UID:4180-1765807200-1765818000@dehoga-berlin.de
SUMMARY:Vollversammlung der Delegierten
DESCRIPTION:Die Vollversammlung ist das höchste Gremium des Hotel- und Gastronomieverbandes Berlin e. V. Sie tritt auf Einladung des Präsidiums mindestens einmal jährlich zusammen. Die Vollversammlung besteht aus den gewählten Mitgliedern des Präsidiums sowie in der Regel jeweils 40 Delegierten der Fachgruppen Hotellerie und Gastronomie. \nSie treffen sich mindestens zwei mal im Jahr.
URL:https://dehoga-berlin.de/veranstaltung/vollversammlung-der-delegierten-3/
LOCATION:SANA Berlin Hotel\, Nürnberger Straße 33/34\, Berlin\, 10777
ATTACH;FMTTYPE=image/jpeg:https://dehoga-berlin.de/wp-content/uploads/2024/11/Andresen-web-1.jpg
ORGANIZER;CN="DEHOGA Berlin":MAILTO:events@dehoga-berlin.de
END:VEVENT
BEGIN:VEVENT
DTSTART;TZID=UTC:20251201T160000
DTEND;TZID=UTC:20251201T190000
DTSTAMP:20260423T125131
CREATED:20241128T141712Z
LAST-MODIFIED:20260121T151232Z
UID:4163-1764604800-1764615600@dehoga-berlin.de
SUMMARY:Gastro Business Club
DESCRIPTION:Unser Gastro Business Club (GBC) ist eine mehrmals im Jahr stattfindende Event-Reihe für Gastronomen und Vertretern der Branche. Der DEHOGA Berlin fördert damit den Austausch von Know-how\, die Zusammenarbeit innerhalb der Gemeinschaft\, Innovationen weiter voranzubringen und den gemeinsamen Erfolg zu steigern. Es dient um: Erfahrung auszutauschen: Gemeinsame Herausforderungen zu diskutieren und voneinander zu lernen. Geschäftskontakte zu knüpfen: Neue Partnerschaften und Kooperationen aufzubauen. Trends und Innovationen kennenzulernen: Durch exklusive Veranstaltungen\, Workshops und Seminare. Geschäftsstrategien zu entwickeln: Unterstützung bei der Optimierung von Geschäftsmodellen und der Einführung neuer Konzepte.
URL:https://dehoga-berlin.de/veranstaltung/gastro-business-club-3/
LOCATION:The Knast\, Soethstraße 7\, Berlin\, 12203
ATTACH;FMTTYPE=image/jpeg:https://dehoga-berlin.de/wp-content/uploads/2024/11/image00053-1-scaled.jpeg
ORGANIZER;CN="DEHOGA Berlin":MAILTO:events@dehoga-berlin.de
END:VEVENT
BEGIN:VEVENT
DTSTART;TZID=Europe/Berlin:20251120T183000
DTEND;TZID=Europe/Berlin:20251120T220000
DTSTAMP:20260423T125131
CREATED:20251021T095404Z
LAST-MODIFIED:20260121T151229Z
UID:7124-1763663400-1763676000@dehoga-berlin.de
SUMMARY:Partnertreffen
DESCRIPTION:Einmal im Jahr treffen sich die Partner\, die den Verband und damit ihre Mitglieder unterstützen\, zum gemeinsamen Austausch.
URL:https://dehoga-berlin.de/veranstaltung/partnertreffen-2/
ATTACH;FMTTYPE=image/jpeg:https://dehoga-berlin.de/wp-content/uploads/2025/10/Lovis-Hauptraummain-room-scaled.jpg
END:VEVENT
BEGIN:VEVENT
DTSTART;TZID=Europe/Berlin:20251103T140000
DTEND;TZID=Europe/Berlin:20251103T170000
DTSTAMP:20260423T125131
CREATED:20241128T141955Z
LAST-MODIFIED:20260121T151227Z
UID:4168-1762178400-1762189200@dehoga-berlin.de
SUMMARY:Fachgruppensitzung (Hotellerie & Gastronomie)
DESCRIPTION:Die fachliche Gliederung besteht aus den zwei Fachgruppen Gastronomie und Hotellerie. Die Vorsitzenden der Fachgruppen berufen mindestens einmal jährlich eine Fachgruppensitzung ein. \nDer Vorsitzende repräsentiert die Fachgruppe nach außen. Die Fachgruppensitzung findet mindestens einmal im Jahr statt. \nHier gelangen Sie zur Anmeldung: \nEvent-Seite
URL:https://dehoga-berlin.de/veranstaltung/fachgruppensitzung-hotellerie-gastronomie/
LOCATION:Mercure Hotel MOA Berlin\, Stephanstraße 41\, Berlin\, 10559\, Germany
ATTACH;FMTTYPE=image/jpeg:https://dehoga-berlin.de/wp-content/uploads/2024/11/image00019-scaled.jpeg
ORGANIZER;CN="DEHOGA Berlin":MAILTO:events@dehoga-berlin.de
END:VEVENT
BEGIN:VEVENT
DTSTART;TZID=Europe/Berlin:20251016T090000
DTEND;TZID=Europe/Berlin:20251016T170000
DTSTAMP:20260423T125131
CREATED:20250320T130043Z
LAST-MODIFIED:20260121T151224Z
UID:5774-1760605200-1760634000@dehoga-berlin.de
SUMMARY:Beschwerdemanagement
DESCRIPTION:Seminarziel \nAuch im besten Hotel\, Restaurant oder gastronomischen Einrichtung kann mal etwas schief gehen und es zur Beschwerde kommen. Ob zu Recht oder nicht. Ganz gleich\, Ihr Gast sollte Ihre Location in guter Erinnerung behalten. Negative Erlebnisse werden vielen Menschen weitererzählt und dies hat dann möglicherweise Auswirkungen auf Ihre Besucherzahlen und somit auch auf Ihre Umsätze. Ein negatives Erlebnis wird von Gästen an etwa 11 Personen weitergegeben\, ein positives nur drei mal. Lernen Sie in diesem Seminar den Umgang mit Beschwerden. \nInfo und Buchung über DEHOGA Berlin Seminare
URL:https://dehoga-berlin.de/veranstaltung/beschwerdemanagement/
ATTACH;FMTTYPE=image/jpeg:https://dehoga-berlin.de/wp-content/uploads/2025/03/adam-winger-zwFOsDJIT5k-unsplash-scaled.jpg
ORGANIZER;CN="DEHOGA Berlin":MAILTO:events@dehoga-berlin.de
END:VEVENT
BEGIN:VEVENT
DTSTART;TZID=UTC:20250922T160000
DTEND;TZID=UTC:20250922T190000
DTSTAMP:20260423T125131
CREATED:20241128T141649Z
LAST-MODIFIED:20260121T151220Z
UID:4161-1758556800-1758567600@dehoga-berlin.de
SUMMARY:Gastro Business Club
DESCRIPTION:Unser Gastro Business Club (GBC) ist eine mehrmals im Jahr stattfindende Event-Reihe für Gastronomen und Vertretern der Branche. Der DEHOGA Berlin fördert damit den Austausch von Know-how\, die Zusammenarbeit innerhalb der Gemeinschaft\, Innovationen weiter voranzubringen und den gemeinsamen Erfolg zu steigern. Es dient um: Erfahrung auszutauschen: Gemeinsame Herausforderungen zu diskutieren und voneinander zu lernen. Geschäftskontakte zu knüpfen: Neue Partnerschaften und Kooperationen aufzubauen. Trends und Innovationen kennenzulernen: Durch exklusive Veranstaltungen\, Workshops und Seminare. Geschäftsstrategien zu entwickeln: Unterstützung bei der Optimierung von Geschäftsmodellen und der Einführung neuer Konzepte.
URL:https://dehoga-berlin.de/veranstaltung/gastro-business-club-2/
LOCATION:Kreuzberger Himmel\, Yorckstrasse 89\, Berlin\, 10965\, Germany
ATTACH;FMTTYPE=image/jpeg:https://dehoga-berlin.de/wp-content/uploads/2024/11/Screenshot-2025-08-07-141555.jpg
ORGANIZER;CN="DEHOGA Berlin":MAILTO:events@dehoga-berlin.de
END:VEVENT
END:VCALENDAR