BEGIN:VCALENDAR
VERSION:2.0
PRODID:-//DEHOGA Berlin • Hotel- und Gastronomieverband Berlin e.V. - ECPv6.15.20//NONSGML v1.0//EN
CALSCALE:GREGORIAN
METHOD:PUBLISH
X-ORIGINAL-URL:https://dehoga-berlin.de
X-WR-CALDESC:Veranstaltungen für DEHOGA Berlin • Hotel- und Gastronomieverband Berlin e.V.
REFRESH-INTERVAL;VALUE=DURATION:PT1H
X-Robots-Tag:noindex
X-PUBLISHED-TTL:PT1H
BEGIN:VTIMEZONE
TZID:Europe/Berlin
BEGIN:DAYLIGHT
TZOFFSETFROM:+0100
TZOFFSETTO:+0200
TZNAME:CEST
DTSTART:20250330T010000
END:DAYLIGHT
BEGIN:STANDARD
TZOFFSETFROM:+0200
TZOFFSETTO:+0100
TZNAME:CET
DTSTART:20251026T010000
END:STANDARD
BEGIN:DAYLIGHT
TZOFFSETFROM:+0100
TZOFFSETTO:+0200
TZNAME:CEST
DTSTART:20260329T010000
END:DAYLIGHT
BEGIN:STANDARD
TZOFFSETFROM:+0200
TZOFFSETTO:+0100
TZNAME:CET
DTSTART:20261025T010000
END:STANDARD
BEGIN:DAYLIGHT
TZOFFSETFROM:+0100
TZOFFSETTO:+0200
TZNAME:CEST
DTSTART:20270328T010000
END:DAYLIGHT
BEGIN:STANDARD
TZOFFSETFROM:+0200
TZOFFSETTO:+0100
TZNAME:CET
DTSTART:20271031T010000
END:STANDARD
END:VTIMEZONE
BEGIN:VEVENT
DTSTART;TZID=Europe/Berlin:20260518T160000
DTEND;TZID=Europe/Berlin:20260518T200000
DTSTAMP:20260423T182855
CREATED:20260204T155852Z
LAST-MODIFIED:20260325T133226Z
UID:7943-1779120000-1779134400@dehoga-berlin.de
SUMMARY:DEHOGA Berlin Wahlcheck Live
DESCRIPTION:Klartext zur Zukunft von Tourismus\, Gastgewerbe und MICE-Branche \nBeim DEHOGA Berlin Wahlcheck Live fragen wir die Spitzenkandidatinnen und -kandidaten\, wie sie die zentralen Herausforderungen von Tourismus\, Gastgewerbe und MICE-Branche angehen – und welche konkreten Maßnahmen sie zur Stärkung des Tourismusstandorts Berlin umsetzen wollen. \nIm Fokus stehen unter anderem wirtschaftliche Rahmenbedingungen\, Bürokratieabbau\, Standortentwicklung\, Fachkräftesicherung sowie die Zukunft von Veranstaltungen und Kongressen in Berlin. \nJetzt schon vormerken und dabei sein (Für Mitglieder und Partner). \nWeitere Details folgen.
URL:https://dehoga-berlin.de/veranstaltung/dehoga-berlin-wahlcheck-live/
ATTACH;FMTTYPE=image/jpeg:https://dehoga-berlin.de/wp-content/uploads/2026/01/DEHOGA_Wahlen_2026_Newsletter_600x400_mit_Logo.jpg
END:VEVENT
END:VCALENDAR